BEGIN:VCALENDAR
VERSION:2.0
PRODID:-//wp-events-plugin.com//5.99912//EN
TZID:Europe/Berlin
X-WR-TIMEZONE:Europe/Berlin
BEGIN:VEVENT
UID:0-197@moegglingen.albverein.eu
DTSTART;TZID=Europe/Berlin:20260503T140000
DTEND;TZID=Europe/Berlin:20260503T173000
DTSTAMP:20260422T201432Z
URL:https://moegglingen.albverein.eu/events/bluetenzauber-am-sonntag-den-3
 -mai/
SUMMARY:Blütenzauber am Sonntag\, den 3. Mai
DESCRIPTION:Liebe Familien\,\n\ndie Wiesen sind gerade voll von Gänseblüm
 chen und Löwenzahn und viele andere Blumen stehen schon bereit\, um ihr s
 chönes Blütenkleid zu zeigen. Das wollen wir uns genauer anschauen und e
 in paar davon auch probieren bei unserer nächsten Aktion\, zu der ich euc
 h herzlich einlade:\n\nRund um den Kolbenberg gehen wir auf Entdeckungsrei
 se zu den Frühlingsblumen. Spielerisch finden wir heraus\, was alles wäc
 hst und welche Blüten essbar sind. Mit unseren bunten Schätzen werden wi
 r kreativ und bereiten einfache Leckereien zu\, die wir bei unserem Wiesen
 picknick genießen. \n\nPackt eure Decke ein und freut euch auf einen zaub
 erhaften Nachmittag!\n\nFür Familien mit Kindern und Großeltern mit ihre
 n Enkeln ab 4 Jahren.\n\nTreffpunkt: 14.00 Uhr am Parkplatz in der Kolbenb
 ergstraße in Essingen-Forst (https://maps.app.goo.gl/VDV9AC5xGxtzocK28)\n
 \nDauer der Wanderung: ca 3 – 3\,5 Stunden\n\nStrecke: Die ca. 3\,5 km l
 ange Strecke ist kinderwagengeeignet.\n\nKostenbeitrag pro Person: Mitglie
 der kostenfrei\, Nicht-Mitglieder 3 Euro\n\nBitte mitbringen: \n\n 	Wetter
 feste Kleidung und Schuhe\n 	Getränk\n 	Picknickdecke\n 	Sammelbehälter\
 n 	Schneidebrett und –messer\n 	Teller\n 	Besteck inkl. Teelöffel\n 	Ko
 stenbeitrag\, wenn möglich passend\n 	Albärtspass\n\n \n\nHinweis: Bei 
 dieser Veranstaltung können wir etwas weniger Teilnehmer mitnehmen als so
 nst. Die Plätze werden daher erst an die Mitglieder und dann die restlich
 en nach Eingang der Anmeldung vergeben. Danke für euer Verständnis.\n\n&
 nbsp\;\n\nBitte meldet euch spätestens bis zum 30. April bei mir per Mail
  oder unter der Telefonnr. 0711/22 585-54\, Mobil 01590-63 03 421 an und t
 eilt mir mit\, ob ihr Mitglied seid oder nicht.\n\n&nbsp\;\n\nWie immer d
 ürft ihr diese Einladung in eurem Freundes- und Bekanntenkreis/Kindergart
 en und Schule teilen.\n\n&nbsp\;\n\nFalls sich jemand zur Mitgliedschaft e
 ntscheidet\, hier der Link zum Formular: https://albverein.net/mitglied-we
 rden/\n\n&nbsp\;\n\nBlumige Grüße\n\nMichaela\n\n&nbsp\;\n\n&nbsp\;\n\nM
 ichaela Spielmann\nPädagogische Mitarbeiterin\nSchwäbischer Albverein e.
 V.\nHospitalstr. 21 B\n70174 Stuttgart\n\nTel.: 0711/22 585-54\nEmail:  ms
 pielmann@schwaebischer-albverein.de\nInternet:  www.albvereinsfamilie.net\
 n\nDer Schwäbische Albverein e.V. hat seinen Sitz in Stuttgart.\nVereinsr
 egister: 2430 (Amtsgericht Stuttgart)\nPräsident: N.N.\, Vizepräsidentin
  Regine Erb und Vizepräsident Thomas Keck
END:VEVENT
BEGIN:VTIMEZONE
TZID:Europe/Berlin
X-LIC-LOCATION:Europe/Berlin
BEGIN:DAYLIGHT
DTSTART:20260329T030000
TZOFFSETFROM:+0100
TZOFFSETTO:+0200
TZNAME:CEST
END:DAYLIGHT
END:VTIMEZONE
END:VCALENDAR