BEGIN:VCALENDAR
VERSION:2.0
PRODID:-//wp-events-plugin.com//5.99912//EN
TZID:Europe/Berlin
X-WR-TIMEZONE:Europe/Berlin
BEGIN:VEVENT
UID:0-199@moegglingen.albverein.eu
DTSTART;TZID=Europe/Berlin:20260513T130000
DTEND;TZID=Europe/Berlin:20260513T180000
DTSTAMP:20260422T202835Z
URL:https://moegglingen.albverein.eu/events/kutschfahrt-am-13-05-2026-in-p
 fahlbronn-brech/
SUMMARY:Kutschfahrt am 13.05.2026 in Pfahlbronn-Brech
DESCRIPTION:Wir treffen  uns am Mittwoch\, 13.05.26 um 13:00 Uhr am  P+R 
 Parkplatz zur Bildung\nvon Fahrgemeinschaften und fahren zum Pferdehof Kö
 ngeter nach\nPfahlbronn Brech\, wo wir auf die bereitgestellten Planwagen 
 umsteigen.\nMit kleiner Bordverpflegung fahren wir durch die herrliche Umg
 ebung von Pfahlbronn.\nZum Abschluss werden wir mit einem tollen Scheunen
 vesper von der\nFamilie Köngeter verwöhnt. Essen so viel man möchte und
  kann.\nDer Preis pro Person liegt je nach Teilnehmerzahl bei  € 20-25.
  Kinder zahlen € 15.\nAnmeldung ist ab sofort möglich bei Christoff Luc
 ke Tel. 07174-5645.\nGäste aller Altersklassen sind herzlich willkommen.
END:VEVENT
BEGIN:VTIMEZONE
TZID:Europe/Berlin
X-LIC-LOCATION:Europe/Berlin
BEGIN:DAYLIGHT
DTSTART:20260329T030000
TZOFFSETFROM:+0100
TZOFFSETTO:+0200
TZNAME:CEST
END:DAYLIGHT
END:VTIMEZONE
END:VCALENDAR