BEGIN:VCALENDAR
VERSION:2.0
PRODID:-//wp-events-plugin.com//5.99912//EN
TZID:Europe/Berlin
X-WR-TIMEZONE:Europe/Berlin
BEGIN:VEVENT
UID:0-198@moegglingen.albverein.eu
DTSTART;TZID=Europe/Berlin:20260509T130000
DTEND;TZID=Europe/Berlin:20260509T180000
DTSTAMP:20260422T203946Z
URL:https://moegglingen.albverein.eu/events/muehlenwanderung-im-welzheimer
 -wald-am-09-05-2026/
SUMMARY:Mühlenwanderung im Welzheimer Wald am 09.05.2026
DESCRIPTION:Wir treffen uns am Samstag\, 09.05.2026 um 13:00 Uhr am P+R Par
 kplatz zur\nBildung von Fahrgemeinschaften. Wir fahren nach Alfdorf-Buchen
 gehren Sägmühle\nzum Start ins idyllische Rottal. Alle Natur- und Mühle
 nfans finden hier absolute\nHighlights in folgender Reihenfolge: Voggenber
 gmühle\, Biotope\, Hüttenbühlstausee\, Hummelgautsche\, Heinlesmühle u
 nd Hagerwaldsee. Der ca. 11 km lange Weg weist\nkeine Steigungen auf.\nDer
  Abschluss ist in der Ratsstube in Alfdorf geplant. Wegen der Tischreserv
 ierung\nist vorab eine Anmeldung bei Christoff Lucke\, Tel. 07174-5645 erw
 ünscht..\nWanderführer ist Christoff Lucke\nGäste wie immer herzlich wi
 llkommen
END:VEVENT
BEGIN:VTIMEZONE
TZID:Europe/Berlin
X-LIC-LOCATION:Europe/Berlin
BEGIN:DAYLIGHT
DTSTART:20260329T030000
TZOFFSETFROM:+0100
TZOFFSETTO:+0200
TZNAME:CEST
END:DAYLIGHT
END:VTIMEZONE
END:VCALENDAR